Workbook

Sheet Readme
C1: Interaction Seeds
C2: Citizens Engagement Self-Assessment Tool
B4: v28/11/25
B5: What it is | C5: The Citizens Engagement Self Assessment Tool was designed in the framework of the EU funded project "Interaction Seeds". Running from Januray 2024 to December 2025, InteractionSeeds bridges arts, science, innovation, and society. Through artistic engagement, the project connected Citizens, Cultural & Creative actors, Public authorities, Researchers and Industries, to demonstrate how diverse disciplines can collaborate and tackle key societal challenges—while adapting to diverse contexts and providing replicable approaches to public engagement.​ This tool builds upon the experience gained in Interaction Seeds as well as inputs from various stakeholders, and takes into account other initiatives such as the Living Labs Markers and the New European Bauhaus assessment tool for small projects.
B6: Link to the tool | C6: https://www.interactionseeds.eu/wp-content/uploads/2025/12/Art-Science-Citizen-Engagement-Radar_v2.2.xlsx
B7: Who it is intended for | C7: This tool is intended for different types of organisations running a project involving citizens: - R&I stakeholders: researchers who wants to share their research results with citizens and turn these results into meaningful product or services for society; teams in charge of knowledge valorisation - Facilitators, i.e. intermediaries supporting local authorities in their citizens engagement processes By project we mean a set of activities or an intervention limited in scope and time (from a few days to a few years) - but the tool is rather flexible in relation to the size and duration of the project you want to cover.
B8: Why using it | C8: This tool evaluates the maturity of the processes used within a project to engage with citizens and stakeholders, through participatory process and/or the sharing of scientific and technical knowledge. It also questions the way Art is integrated in those processes. The tool therefore enables to identify pathways to improve citizens engagement in a project, and to strengthen the integration of artistic approaches.
B9: When to use it | C9: You can use this tool when launching a project that involves knowledge valorisation and/or citizens engagement The tool can then be used during and at the end of the project, to assess progress.
B10: How it works | C10: 0) If not are not familiar with some of the concepts mentionned in the tool, please first have a look at the "Glossary" 1) Then provide high-level information about your project in the tab "Your project". Please note that some fields are compulsory (marked with "*"). 2) Answer the questions in the "Checklist" tab. For each question, you have to select the maturity level (from 0 - the lowest, to 3 - the highest) that better aligns with your project, at the start (column H), in the middle of the project (column I) and at the end (column J). Please select "Not applicable" if the question is not relevant for your type of project. You can also enter a short text (optional) to justify your answer - this can be useful if you want to use this tool as part of a continuous improvement cycle, or in case you want to send it to us to get advice. 3) Check the "Results" - you do not have to enter anything in that tab 4) Finally, have a look at "Whats next" to see how to access recommendations and improve your "art-science engagement" maturity !
B12: Contact us: | C12: If you are encountering difficulties when filling in this Excel or need support, please contact stephanie.petit@dowel.eu

Sheet Glossary
A2: GLOSSARY
A4: You will find below the definition of key concepts used in the self-assessment tool.
A6: Art | B6: The expression or application of human creative skill and imagination, producing works to be appreciated primarily for their emotional power, conceptual ideas, technical proficiency or beauty.
A7: The arts | B7: The various branches of creative activity, such as visual arts (painting, sculpture, architecture, photography and film making), literature (such as fiction, poetry) and performing arts (music, theatre, dance). The arts can refer to common, popular, or everyday practices as well as more sophisticated, systematic, or institutionalized ones.
A8: Citizens engagement | B8: Citizen engagement refers to the active participation of individuals and communities in governance processes, encompassing decision-making, implementation, and monitoring.
A9: Co-creation | B9: ‘Co-creation’ is a collaborative and participatory process in which multiple stakeholders – ranging from public administrations to citizens, businesses, academia and civil society – work together in designing, implementing and evaluating public services and policies.
A10: Knowledge valorisation | B10: Knowledge valorisation ensures that data, research results and inventions are transformed into sustainable products, processes and services that bring economic value and benefit society
A11: Participatory process | B11: Participatory processes ensure that stakeholders have a voice in projects that affect them in addressing transformational change
A12: Transdisciplinarity | B12: Transdisciplinarity is an approach that iteratively interweaves knowledge systems, skills, methodologies, values and fields of expertise within inclusive and innovative collaborations that bridge academic disciplines and community perspectives, to develop transformative outcomes that respond to complex societal challenges

Sheet Your project
B1: YOUR PROJECT
B2: Please tell us who you are | E2: (*) = compulsory field
B3: Contact person
B4: Name
B5: Organisation
B6: Position
B7: Role in the project
B8: Email (*) | C8: Please fill in
B10: Please provide some information about your initiative or project:
B11: Title (*) | C11: Test
B12: Website (if any)
B13: Location
B14: Duration
B15: Name of organisation leading the initiative
B16: Type of organisation
B17: Short description of project and its context
B18: Available budget
B19: Targeted public
B20: Main purpose of the intervention (*)

Sheet Checklist
B1: Topic | C1: Question | D1: Maturity level 0 (lowest) | E1: Maturity level 1 | F1: Maturity level 2 | G1: Maturity level 3 (highest) | H1: Which maturity level better applies to your project at the start ? | I1: Which maturity level better applies to your project at the halfway stage ? | J1: Which maturity level better applies to your project at the end ? | K1: Justification (optional, in a few words)
B2: 1. Maturity in citizens engagement
A3: 1.1 | B3: Role of citizens | C3: To which extent does your project involve citizens or users in its management? | D3: 0. Citizens or users are not involved in the project | E3: 1. Citizens or users are consulted | F3: 2. Citizens or users are involved in the operational management of the project (i.e. its execution) | G3: 3. Citizens or users are involved in the strategic management of the project: they have a voice in decision-making and can also initiate new goals and actions
A4: 1.2 | B4: Participation Depth | C4: How are citizens involved in the co-creation process? | D4: 0. Citizens or users are not involved in the co-creation process | E4: 1. Citizens or users are involved in the ideation process that allows solutions to emerge | F4: 2. Citizens or users take part in co-creation activities at different stages of the project (e.g. identification of needs, ideation, design and test of solutions) | G4: 3. In addition to 2, citizens or users are also involved in the deployment/ construction of solutions and in their sustainability/ viability
A5: 1.3 | B5: Methodological Capacity | C5: Does your project rely on specific competencies and staff to design and manage citizen engagement processes? | D5: 0. No, we do not rely on specific competencies | E5: 1. We have or collaborate with a few trained facilitators | F5: 2. We have or collaborate with several trained facilitators across different disciplines | G5: 3. In addition to 2, our project implements learning loops to continuously improve the competencies of the facilitators
C6: Does your project use specific methods & tools to design and manage citizen engagement processes? | D6: 0. No, we do not use any specific engagement tools | E6: 1. In our project, we use rather basic engagement tools such as consultations and meetings | F6: 2. In our project we use innovative tools & approaches for citizens engagement (incl. digital participation tools such as online plaftorms, augmented/ virtual reality, support by Artificial Intelligence) | G6: 3. In addition to 2, our project co-designs and co-develops tools thanks to a trandisciplinary approach
A7: 1.4 | B7: Impact monitoring | C7: How does/will your project monitor impact? | D7: 0. We collect no data | E7: 1. We collect basic quantitative data on participation (e.g. number of participants, age group, gender) | F7: 2. Short term impact is assessed through a questionnaire or similar means covering both quantitative and qualitative indicators (on e.g. the knowledge gained, the understanding of the topic, the willingness to change) | G7: 3. In addition to 2, medium to long term impact is/will be monitored through follow-up questions or interviews (on e.g. how the new knowledge was used, if any actions were implemented as a consequence of the project, if there was a change in behaviour)
A8: 1.5 | B8: Integration of lessons learned | C8: How does your project use feedback from citizens, about the way they experienced the participatory process? | D8: 0. Feedback from the participants is not collected | E8: 1. Feedback is collected but not used | F8: 2. Feedback and lessons learned are shared internally but there are no follow-up actions | G8: 3. Feedback is integrated in future projects to be implemented
B10: 2. Maturity in turning research results into new solutions, knowledge and skills
A11: 2.1 | B11: Collaboration Models | C11: To what extent is your project interdisciplinary? | D11: 0. Our project involves only one discipline or one type of stakeholders | E11: 1. Our project is multi-disciplinary : several technical or scientific disciplines are involved, but working independantly | F11: 2. Our project is interdisciplinary : several disciplines are working together, integrating their diverse perspectives to deliver joint solutions | G11: 3. Our project is transdisciplinary, with partnerships also including the local ecosystem (municipalities, companies, society, artists) in the collaboration
A12: 2.2 | B12: Value creation | C12: How does your project translate research results into knowledge usable by society, products, services or tools? | D12: 0. The project does not lead to a solution that is useful for society | E12: 1. The project leads to a 'viable' solution that is deployed into practice /real-life settings | F12: 2. The project leads to a 'viable' solution deployed into practice /real-life settings, and will create a sustainable structure to further deploy it | G12: 3. The project also seeks to create new collaboration with the community, to foster and monitor the acceptance of new solutions / innovations by citizens, and encourage new uses and improvements beyond the project
A13: 2.3 | B13: Accessibility | C13: How does your project provide access to its results? | D13: 0. Access to the results and knowledge generated by the project is not taken into account. | E13: 1. The project implements actions to disseminate results and knowledge to a limited target group. | F13: 2. The project seeks to extend access to the results to new beneficiaries on its territory | G13: 3. The project seeks to extend access to the results to other territories and disciplines by promoting the replicability of the project
A14: 2.4 | B14: Learning & educational culture | C14: How does your project foster a learning culture to build critical thinking, creativity, and skills among students, researchers, and citizens? | D14: 0. The project does no aim to transfer knowledge and skills in addition to the developed result(s) | E14: 1. The project promotes the transfer of knowledge and skills through occasional educational activities (eg. Workshops) | F14: 2. The project promotes the development of knowledge and skills through regular activities for citizens/users and stakeholders (e.g. series of workshops/ training sessions, student projects) to increase their capacity to act | G14: 3. The project sets up a learning and upskilling ecosystem to nurture creativity, critical thinking and the ability to act, where citizens/users and stakeholders can themselves share the knowledge and skills they have acquired
B16: 3. Maturity in the integration of the arts
A17: 3.1 | B17: Strategic Role of Art | C17: How are the arts integrated in your project? | D17: 0. No form of art is used in the project | E17: 1. The project integrates visual arts as communication and outreach tools (to better communicate, trigger emotions) | F17: 2. The project values different form of art for creative reflection (e.g. challenge way of thinking, inspire contributions, call to action) | G17: 3. The project continuously embeds artistic perspectives in citizens engagement and knowledge valorisation (e.g. to encourage and maintain active participation, build lasting trust and co-creation processes)
C18: How does your project leverage on art to target specific groups? (e.g. underepresented, vulnerable or disadvantaged groups) | D18: 0. Our project does not target specific vulnerable or underepresented group | E18: 1. Our project targets specific underepresented or vulnerable groups but without artistic approaches | F18: 2. Our project integrates artistic approaches to give a voice to underepresented or vulnerable groups | G18: 3. Our project integrates artistic approaches to actively engage underepresented or vulnerable groups in all the stages of co-creation processes
A19: 3.2 | B19: Organizational Support | C19: Does your project have funding, and internal skills to support the integration of art? | D19: 0. The project has no dedicated resources | E19: 1. The project has funding for occasional external artistic facilitation | F19: 2. The project has funding and collaborate with trained facilitators, culture officers or curators to integrate art in the participatory processes | G19: 3. In addition to 2, our project carries out impact monitoring & evaluation of the integration of art.
C20: How does your project attract artists? | D20: 0. The project does not involve any artist | E20: 1. The project finds artists through expressions of interest | F20: 2. The projects works with a network of experienced artists, with the support of facilitators and/or curators | G20: 3. The project collaborates with an expanding network of artists and supports their continuous upskilling in relation to citizens engagement or knowledge dissemination, with the support of facilitators and/or curators
A21: 3.3 | B21: Artist Engagement | C21: How qualitative and diverse are the collaborations with artists, in your project? | D21: 0. The project does not involve any artist | E21: 1. Artists are contracted through punctual commissions (i.e. the artist aligns to the provided specifications) | F21: 2. Our project implements a co-production with artists, with discussions, continuous ideation and experimentation during the whole project, and capacity-building | G21: 3. In addition to 2, our project also defines an exit strategy or follow-up programme to continue the collaboration
C22: What is the depth of engagement of the artist with communities? | D22: 0. The project does not involve any artist | E22: 1. There is only one single intervention made by the artist | F22: 2. The artist engages with the community at a few key steps of the project | G22: 3. The intervention of the artist is conducted in multiple steps for stronger engagement, including follow-up stages

Sheet Results
A1: ="Project """&'Your project'!C11&"""" -> Project "Test" | Q1: Scoring annex - please do not touch
A3: T0. AT PROJECT START | C3: Score | D3: Level reached:
A4: 1. Citizen engagement | R4: Score T0 | S4: Score T1 | T4: Score T2
A5: 1.1 | B5: Role of citizens | C5: =IF(Checklist!H3="Not applicable","",Checklist!H3) -> 0 | D5: =IF(C5="","Not applicable",IF(C5>2.99, S$24,IF(C5>1.99,S$23, IF(C5>0.99,S$22,S$21)))) -> No action yet | Q5: =B5 -> Role of citizens | R5: =C5 -> 0 | S5: =C24 -> 0 | T5: =C44 -> 0
A6: 1.2 | B6: Participation Depth | C6: =IF(Checklist!H4="Not applicable","",Checklist!H4) -> 0 | D6: =IF(C6="","Not applicable",IF(C6>2.99, S$24,IF(C6>1.99,S$23, IF(C6>0.99,S$22,S$21)))) -> No action yet | Q6: =B6 -> Participation Depth | R6: =C6 -> 0 | S6: =C25 -> 0 | T6: =C45 -> 0
A7: 1.3 | B7: Methodological Capacity | C7: =(IF(AND(Checklist!H5="Not applicable",Checklist!H6="Not applicable"),"",IF(Checklist!H5="Not applicable",Checklist!H6,IF(Checklist!H6="Not applicable",Checklist!H5,(Checklist!H5+Checklist!H6)/2)))) -> 0 | D7: =IF(C7="","Not applicable",IF(C7>2.99, S$24,IF(C7>1.99,S$23, IF(C7>0.99,S$22,S$21)))) -> No action yet | Q7: =B7 -> Methodological Capacity | R7: =C7 -> 0 | S7: =C26 -> 0 | T7: =C46 -> 0
A8: 1.4 | B8: Impact monitoring | C8: =IF(Checklist!H7="Not applicable","",Checklist!H7) -> 0 | D8: =IF(C8="","Not applicable",IF(C8>2.99, S$24,IF(C8>1.99,S$23, IF(C8>0.99,S$22,S$21)))) -> No action yet | Q8: =B8 -> Impact monitoring | R8: =C8 -> 0 | S8: =C27 -> 0 | T8: =C47 -> 0
A9: 1.5 | B9: Integration of lessons learned | C9: =IF(Checklist!H8="Not applicable","",Checklist!H8) -> 0 | D9: =IF(C9="","Not applicable",IF(C9>2.99, S$24,IF(C9>1.99,S$23, IF(C9>0.99,S$22,S$21)))) -> No action yet | Q9: =B9 -> Integration of lessons learned | R9: =C9 -> 0 | S9: =C28 -> 0 | T9: =C48 -> 0
A10: 2. Turning results into new solutions, knowledge and skills | Q10: =B11 -> Collaboration Models | R10: =C11 -> 0 | S10: =C30 -> 0 | T10: =C50 -> 0
A11: 2.1 | B11: Collaboration Models | C11: =IF(Checklist!H11="Not applicable","",Checklist!H11) -> 0 | D11: =IF(C11="","Not applicable",IF(C11>2.99, S$24,IF(C11>1.99,S$23, IF(C11>0.99,S$22,S$21)))) -> No action yet | Q11: =B12 -> Value creation | R11: =C12 -> 0 | S11: =C31 -> 0 | T11: =C51 -> 0
A12: 2.2 | B12: Value creation | C12: =IF(Checklist!H12="Not applicable","",Checklist!H12) -> 0 | D12: =IF(C12="","Not applicable",IF(C12>2.99, S$24,IF(C12>1.99,S$23, IF(C12>0.99,S$22,S$21)))) -> No action yet | Q12: =B13 -> Accessibility | R12: =C13 -> 0 | S12: =C32 -> 0 | T12: =C52 -> 0
A13: 2.3 | B13: Accessibility | C13: =IF(Checklist!H13="Not applicable","",Checklist!H13) -> 0 | D13: =IF(C13="","Not applicable",IF(C13>2.99, S$24,IF(C13>1.99,S$23, IF(C13>0.99,S$22,S$21)))) -> No action yet | Q13: =B14 -> Learning & educational culture | R13: =C14 -> 0 | S13: =C33 -> 0 | T13: =C53 -> 0
A14: 2.4 | B14: Learning & educational culture | C14: =IF(Checklist!H14="Not applicable","",Checklist!H14) -> 0 | D14: =IF(C14="","Not applicable",IF(C14>2.99, S$24,IF(C14>1.99,S$23, IF(C14>0.99,S$22,S$21)))) -> No action yet | Q14: =B16 -> Strategic Role of the Arts | R14: =C16 -> 0 | S14: =C35 -> 0 | T14: =C55 -> 0
A15: 3. Integration of art | Q15: =B17 -> Organizational Support | R15: =C17 -> 0 | S15: =C36 -> 0 | T15: =C56 -> 0
A16: 3.1 | B16: Strategic Role of the Arts | C16: =(IF(AND(Checklist!H17="Not applicable",Checklist!H18="Not applicable"),"",IF(Checklist!H17="Not applicable",Checklist!H18,IF(Checklist!H18="Not applicable",Checklist!H17,(Checklist!H17+Checklist!H18)/2)))) -> 0 | D16: =IF(C16="","Not applicable",IF(C16>2.99, S$24,IF(C16>1.99,S$23, IF(C16>0.99,S$22,S$21)))) -> No action yet | Q16: =B18 -> Artist Engagement | R16: =C18 -> 0 | S16: =C37 -> 0 | T16: =C57 -> 0
A17: 3.2 | B17: Organizational Support | C17: =(IF(AND(Checklist!H19="Not applicable",Checklist!H20="Not applicable"),"",IF(Checklist!H19="Not applicable",Checklist!H20,IF(Checklist!H20="Not applicable",Checklist!H19,(Checklist!H19+Checklist!H20)/2)))) -> 0 | D17: =IF(C17="","Not applicable",IF(C17>2.99, S$24,IF(C17>1.99,S$23, IF(C17>0.99,S$22,S$21)))) -> No action yet
A18: 3.3 | B18: Artist Engagement | C18: =(IF(AND(Checklist!H21="Not applicable",Checklist!H22="Not applicable"),"",IF(Checklist!H21="Not applicable",Checklist!H22,IF(Checklist!H22="Not applicable",Checklist!H21,(Checklist!H21+Checklist!H22)/2)))) -> 0 | D18: =IF(C18="","Not applicable",IF(C18>2.99, S$24,IF(C18>1.99,S$23, IF(C18>0.99,S$22,S$21)))) -> No action yet
A20: Overall score | B20: =IF(C20="","Not applicable",IF(C20>2.8, T$30,IF(C20>1.8, T$29, IF(C20>0.8, T$28,IF(C20>0,T$27,""))))) | C20: =IF('Your project'!C20="Both", AVERAGE(C5:C9,C11:C14,C16:C18),IF('Your project'!C20="Citizens engagement", (AVERAGE(C5:C9)*2+AVERAGE(C11:C14)+AVERAGE(C16:C18)*2)/5,IF('Your project'!C20="Knowledge valorisation", (AVERAGE(C5:C9)+AVERAGE(C11:C14)*2+AVERAGE(C16:C18)*2)/5,AVERAGE(C5:C9,C11:C14,C16:C18)))) -> 0 | D20: ="Level reached: "&IF(C20="","Not applicable",IF(C20>2.8, S$30,IF(C20>1.8, S$29, IF(C20>0.8, S$28,IF(C20>0,S$27,""))))) -> Level reached: | S20: Scores
R21: 0 | S21: No action yet
A22: T1. AT HALFWAY STAGE | C22: Score | D22: Level reached: | R22: 1 | S22: Can be improved
A23: 1. Citizen engagement | R23: 2 | S23: Good
A24: 1.1 | B24: Role of citizens | C24: =IF(Checklist!I3="Not applicable","",Checklist!I3) -> 0 | D24: =IF(C24="","Not applicable",IF(C24>2.99, S$24,IF(C24>1.99,S$23, IF(C24>0.99,S$22,S$21)))) -> No action yet | R24: 3 | S24: Exceptionnal
A25: 1.2 | B25: Participation Depth | C25: =IF(Checklist!I4="Not applicable","",Checklist!I4) -> 0 | D25: =IF(C25="","Not applicable",IF(C25>2.99, S$24,IF(C25>1.99,S$23, IF(C25>0.99,S$22,S$21)))) -> No action yet
A26: 1.3 | B26: Methodological Capacity | C26: =(IF(AND(Checklist!I5="Not applicable",Checklist!I6="Not applicable"),"",IF(Checklist!I5="Not applicable",Checklist!I6,IF(Checklist!I6="Not applicable",Checklist!I5,(Checklist!I5+Checklist!I6)/2)))) -> 0 | D26: =IF(C26="","Not applicable",IF(C26>2.99, S$24,IF(C26>1.99,S$23, IF(C26>0.99,S$22,S$21)))) -> No action yet | S26: Overall score
A27: 1.4 | B27: Impact monitoring | C27: =IF(Checklist!I7="Not applicable","",Checklist!I7) -> 0 | D27: =IF(C27="","Not applicable",IF(C27>2.99, S$24,IF(C27>1.99,S$23, IF(C27>0.99,S$22,S$21)))) -> No action yet | R27: 0 | S27: Starter | T27: Your project is considering or just starting testing new approaches to engage with citizens or valorise knowledge: check out Interaction Seeds website and guidelines for inspiration!
A28: 1.5 | B28: Integration of lessons learned | C28: =IF(Checklist!I8="Not applicable","",Checklist!I8) -> 0 | D28: =IF(C28="","Not applicable",IF(C28>2.99, S$24,IF(C28>1.99,S$23, IF(C28>0.99,S$22,S$21)))) -> No action yet | R28: 1 | S28: Explorer | T28: Your project is exploring new approaches but they remain occasional : identify your lowest scores and check our guidelines to see how you can improve!
A29: 2. Turning results into new solutions, knowledge and skills | R29: 2 | S29: Integrator | T29: Your project is successfully integrating co-creation approaches, keep up with the good work and check our guidelines to reach the next level!
A30: 2.1 | B30: Collaboration Models | C30: =IF(Checklist!I11="Not applicable","",Checklist!I11) -> 0 | D30: =IF(C30="","Not applicable",IF(C30>2.99, S$24,IF(C30>1.99,S$23, IF(C30>0.99,S$22,S$21)))) -> No action yet | R30: 3 | S30: Leader | T30: Your project is a leader in innovative approaches that combine art, science and citizens to fully exploit the potential of co-creation. Spread the word and share your good practices with peers!
A31: 2.2 | B31: Value creation | C31: =IF(Checklist!I12="Not applicable","",Checklist!I12) -> 0 | D31: =IF(C31="","Not applicable",IF(C31>2.99, S$24,IF(C31>1.99,S$23, IF(C31>0.99,S$22,S$21)))) -> No action yet
A32: 2.3 | B32: Accessibility | C32: =IF(Checklist!I13="Not applicable","",Checklist!I13) -> 0 | D32: =IF(C32="","Not applicable",IF(C32>2.99, S$24,IF(C32>1.99,S$23, IF(C32>0.99,S$22,S$21)))) -> No action yet
A33: 2.4 | B33: Learning & educational culture | C33: =IF(Checklist!I14="Not applicable","",Checklist!I14) -> 0 | D33: =IF(C33="","Not applicable",IF(C33>2.99, S$24,IF(C33>1.99,S$23, IF(C33>0.99,S$22,S$21)))) -> No action yet
A34: 3. Integration of art
A35: 3.1 | B35: Strategic Role of the Arts | C35: =(IF(AND(Checklist!I17="Not applicable",Checklist!I18="Not applicable"),"",IF(Checklist!I17="Not applicable",Checklist!I18,IF(Checklist!I18="Not applicable",Checklist!I17,(Checklist!I17+Checklist!I18)/2)))) -> 0 | D35: =IF(C35="","Not applicable",IF(C35>2.99, S$24,IF(C35>1.99,S$23, IF(C35>0.99,S$22,S$21)))) -> No action yet
A36: 3.2 | B36: Organizational Support | C36: =(IF(AND(Checklist!I19="Not applicable",Checklist!I20="Not applicable"),"",IF(Checklist!I19="Not applicable",Checklist!I20,IF(Checklist!I20="Not applicable",Checklist!I19,(Checklist!I19+Checklist!I20)/2)))) -> 0 | D36: =IF(C36="","Not applicable",IF(C36>2.99, S$24,IF(C36>1.99,S$23, IF(C36>0.99,S$22,S$21)))) -> No action yet
A37: 3.3 | B37: Artist Engagement | C37: =(IF(AND(Checklist!I21="Not applicable",Checklist!I22="Not applicable"),"",IF(Checklist!I21="Not applicable",Checklist!I22,IF(Checklist!I22="Not applicable",Checklist!I21,(Checklist!I21+Checklist!I22)/2)))) -> 0 | D37: =IF(C37="","Not applicable",IF(C37>2.99, S$24,IF(C37>1.99,S$23, IF(C37>0.99,S$22,S$21)))) -> No action yet
A39: Overall score | B39: =IF(C39="","Not applicable",IF(C39>2.8, T$30,IF(C39>1.8, T$29, IF(C39>0.8, T$28,IF(C39>0,T$27,""))))) | C39: =IF('Your project'!C39="Both", AVERAGE(C24:C28,C30:C33,C35:C37),IF('Your project'!C39="Citizens engagement", (AVERAGE(C24:C28)*2+AVERAGE(C30:C33)+AVERAGE(C35:C37)*2)/5,IF('Your project'!C39="Knowledge valorisation", (AVERAGE(C24:C28)+AVERAGE(C30:C33)*2+AVERAGE(C35:C37)*2)/5,AVERAGE(C24:C28,C30:C33,C35:C37)))) -> 0 | D39: ="Level reached: "&IF(C39="","Not applicable",IF(C39>2.8, S$30,IF(C39>1.8, S$29, IF(C39>0.8, S$28,IF(C39>0,S$27,""))))) -> Level reached:
A42: T2. AT PROJECT END | C42: Score | D42: Level reached:
A43: 1. Citizen engagement | C43: =AVERAGE(C44:C47) -> 0
A44: 1.1 | B44: Role of citizens | C44: =IF(Checklist!J3="Not applicable","",Checklist!J3) -> 0 | D44: =IF(C44="","Not applicable",IF(C44>2.99, S$24,IF(C44>1.99,S$23, IF(C44>0.99,S$22,S$21)))) -> No action yet
A45: 1.2 | B45: Participation Depth | C45: =IF(Checklist!J4="Not applicable","",Checklist!J4) -> 0 | D45: =IF(C45="","Not applicable",IF(C45>2.99, S$24,IF(C45>1.99,S$23, IF(C45>0.99,S$22,S$21)))) -> No action yet
...

Sheet Whats next
A1: WHAT'S NEXT?
A3: Get in touch | B3: stephanie.petit@dowel.eu
A4: Check the project resources for inspiration | B4: www.interactionseeds.eu
A6: How to move to the next level ?
A7: Read our guidelines, and check the progression pathways !
